BEGIN:VCALENDAR
VERSION:2.0
PRODID:-//CDJFL - ECPv4.6.24.1//NONSGML v1.0//EN
CALSCALE:GREGORIAN
METHOD:PUBLISH
X-WR-CALNAME:CDJFL
X-ORIGINAL-URL:https://crowboroughleague.org.uk
X-WR-CALDESC:Events for CDJFL
BEGIN:VEVENT
DTSTART;VALUE=DATE:20210509
DTEND;VALUE=DATE:20210510
DTSTAMP:20260423T114957
CREATED:20200924T173336Z
LAST-MODIFIED:20200924T173336Z
UID:1412-1620518400-1620604799@crowboroughleague.org.uk
SUMMARY:C&DJFL League Cup finals
DESCRIPTION:Reserve Date – Sunday 9th May 2021 \n
URL:https://crowboroughleague.org.uk/event/cdjfl-league-cup-finals-3/
END:VEVENT
END:VCALENDAR