BEGIN:VCALENDAR
VERSION:2.0
PRODID:-//CDJFL - ECPv4.6.24.1//NONSGML v1.0//EN
CALSCALE:GREGORIAN
METHOD:PUBLISH
X-WR-CALNAME:CDJFL
X-ORIGINAL-URL:https://crowboroughleague.org.uk
X-WR-CALDESC:Events for CDJFL
BEGIN:VEVENT
DTSTART;VALUE=DATE:20200405
DTEND;VALUE=DATE:20200406
DTSTAMP:20260422T114526
CREATED:20190902T001738Z
LAST-MODIFIED:20190902T001922Z
UID:1008-1586044800-1586131199@crowboroughleague.org.uk
SUMMARY:C&DJFL League Cup Finals Day - u13s\, u15s & u18s
DESCRIPTION:C&DJFL League Cup Finals Day – u13s\, u15s & u18s \n
URL:https://crowboroughleague.org.uk/event/cdjfl-league-cup-finals-day-u13s-u15s-u18s/
END:VEVENT
END:VCALENDAR