BEGIN:VCALENDAR
VERSION:2.0
PRODID:-//CDJFL - ECPv4.6.24.1//NONSGML v1.0//EN
CALSCALE:GREGORIAN
METHOD:PUBLISH
X-WR-CALNAME:CDJFL
X-ORIGINAL-URL:https://crowboroughleague.org.uk
X-WR-CALDESC:Events for CDJFL
BEGIN:VEVENT
DTSTART;TZID=UTC+0:20190926T193000
DTEND;TZID=UTC+0:20190926T213000
DTSTAMP:20260422T194900
CREATED:20190902T003119Z
LAST-MODIFIED:20190902T003119Z
UID:1021-1569526200-1569533400@crowboroughleague.org.uk
SUMMARY:C&DJFL Management Committee meeting
DESCRIPTION:C&DJFL Management Committee meeting \n
URL:https://crowboroughleague.org.uk/event/cdjfl-management-committee-meeting/
LOCATION:Jarvis Brook FC\, Palesgate Lane\, Crowborough\, TN63HG\, United Kingdom
END:VEVENT
END:VCALENDAR