BEGIN:VCALENDAR
VERSION:2.0
PRODID:-//CDJFL - ECPv4.6.24.1//NONSGML v1.0//EN
CALSCALE:GREGORIAN
METHOD:PUBLISH
X-WR-CALNAME:CDJFL
X-ORIGINAL-URL:https://crowboroughleague.org.uk
X-WR-CALDESC:Events for CDJFL
BEGIN:VEVENT
DTSTART;VALUE=DATE:20190331
DTEND;VALUE=DATE:20190401
DTSTAMP:20260423T062755
CREATED:20180924T201327Z
LAST-MODIFIED:20180924T201327Z
UID:671-1553990400-1554076799@crowboroughleague.org.uk
SUMMARY:Cup Finals - u12/u14/u16
DESCRIPTION:
URL:https://crowboroughleague.org.uk/event/cup-finals-u12-u14-u16/
END:VEVENT
END:VCALENDAR