BEGIN:VCALENDAR
VERSION:2.0
PRODID:-//CDJFL - ECPv4.6.24.1//NONSGML v1.0//EN
CALSCALE:GREGORIAN
METHOD:PUBLISH
X-WR-CALNAME:CDJFL
X-ORIGINAL-URL:https://crowboroughleague.org.uk
X-WR-CALDESC:Events for CDJFL
BEGIN:VEVENT
DTSTART;TZID=UTC+0:20220224T193000
DTEND;TZID=UTC+0:20220224T203000
DTSTAMP:20260423T120043
CREATED:20210812T185956Z
LAST-MODIFIED:20210812T185956Z
UID:1670-1645731000-1645734600@crowboroughleague.org.uk
SUMMARY:Full League Meeting
DESCRIPTION:
URL:https://crowboroughleague.org.uk/event/full-league-meeting-4/
END:VEVENT
END:VCALENDAR