BEGIN:VCALENDAR
VERSION:2.0
PRODID:-//CDJFL - ECPv4.6.24.1//NONSGML v1.0//EN
CALSCALE:GREGORIAN
METHOD:PUBLISH
X-WR-CALNAME:CDJFL
X-ORIGINAL-URL:https://crowboroughleague.org.uk
X-WR-CALDESC:Events for CDJFL
BEGIN:VEVENT
DTSTART;TZID=UTC+0:20200820T200000
DTEND;TZID=UTC+0:20200820T210000
DTSTAMP:20260422T035031
CREATED:20200924T174242Z
LAST-MODIFIED:20200924T174242Z
UID:1427-1597953600-1597957200@crowboroughleague.org.uk
SUMMARY:Full league meeting - all clubs to be represented
DESCRIPTION:
URL:https://crowboroughleague.org.uk/event/full-league-meeting-all-clubs-to-be-represented/
LOCATION:via ZOOM
END:VEVENT
END:VCALENDAR