BEGIN:VCALENDAR
VERSION:2.0
PRODID:-//CDJFL - ECPv4.6.24.1//NONSGML v1.0//EN
CALSCALE:GREGORIAN
METHOD:PUBLISH
X-WR-CALNAME:CDJFL
X-ORIGINAL-URL:https://crowboroughleague.org.uk
X-WR-CALDESC:Events for CDJFL
BEGIN:VEVENT
DTSTART;TZID=UTC+0:20220501T080000
DTEND;TZID=UTC+0:20220501T170000
DTSTAMP:20260423T154413
CREATED:20210812T183635Z
LAST-MODIFIED:20220202T162354Z
UID:1630-1651392000-1651424400@crowboroughleague.org.uk
SUMMARY:Last playing day of season - Youth Football
DESCRIPTION:
URL:https://crowboroughleague.org.uk/event/last-playing-day-of-season/
END:VEVENT
END:VCALENDAR