BEGIN:VCALENDAR
VERSION:2.0
PRODID:-//CDJFL - ECPv4.6.24.1//NONSGML v1.0//EN
CALSCALE:GREGORIAN
METHOD:PUBLISH
X-WR-CALNAME:CDJFL
X-ORIGINAL-URL:https://crowboroughleague.org.uk
X-WR-CALDESC:Events for CDJFL
BEGIN:VEVENT
DTSTART;TZID=UTC+0:20230427T193000
DTEND;TZID=UTC+0:20230427T203000
DTSTAMP:20260424T140336
CREATED:20220720T125019Z
LAST-MODIFIED:20220720T125019Z
UID:1993-1682623800-1682627400@crowboroughleague.org.uk
SUMMARY:LEAGUE MANAGEMENT COMMITTEE MEETING
DESCRIPTION:
URL:https://crowboroughleague.org.uk/event/league-management-committee-meeting-10/
END:VEVENT
END:VCALENDAR