BEGIN:VCALENDAR
VERSION:2.0
PRODID:-//CDJFL - ECPv4.6.24.1//NONSGML v1.0//EN
CALSCALE:GREGORIAN
METHOD:PUBLISH
X-WR-CALNAME:CDJFL
X-ORIGINAL-URL:https://crowboroughleague.org.uk
X-WR-CALDESC:Events for CDJFL
BEGIN:VEVENT
DTSTART;VALUE=DATE:20181025
DTEND;VALUE=DATE:20181026
DTSTAMP:20260424T133213
CREATED:20180924T201323Z
LAST-MODIFIED:20180924T201323Z
UID:650-1540425600-1540511999@crowboroughleague.org.uk
SUMMARY:MC Meeting
DESCRIPTION:
URL:https://crowboroughleague.org.uk/event/mc-meeting-2/
END:VEVENT
END:VCALENDAR