BEGIN:VCALENDAR
VERSION:2.0
PRODID:-//CDJFL - ECPv4.6.24.1//NONSGML v1.0//EN
CALSCALE:GREGORIAN
METHOD:PUBLISH
X-WR-CALNAME:CDJFL
X-ORIGINAL-URL:https://crowboroughleague.org.uk
X-WR-CALDESC:Events for CDJFL
BEGIN:VEVENT
DTSTART;VALUE=DATE:20190307
DTEND;VALUE=DATE:20190308
DTSTAMP:20260423T094123
CREATED:20180924T201327Z
LAST-MODIFIED:20180924T201327Z
UID:670-1551916800-1552003199@crowboroughleague.org.uk
SUMMARY:MC Meeting
DESCRIPTION:
URL:https://crowboroughleague.org.uk/event/mc-meeting-5/
END:VEVENT
END:VCALENDAR