BEGIN:VCALENDAR
VERSION:2.0
PRODID:-//CDJFL - ECPv4.6.24.1//NONSGML v1.0//EN
CALSCALE:GREGORIAN
METHOD:PUBLISH
X-WR-CALNAME:CDJFL
X-ORIGINAL-URL:https://crowboroughleague.org.uk
X-WR-CALDESC:Events for CDJFL
BEGIN:VEVENT
DTSTART;VALUE=DATE:20230128
DTEND;VALUE=DATE:20230129
DTSTAMP:20260424T072249
CREATED:20220720T122735Z
LAST-MODIFIED:20220720T122735Z
UID:1958-1674864000-1674950399@crowboroughleague.org.uk
SUMMARY:Mini Soccer fixtures restart -the Under-8’s & Under-10’s
DESCRIPTION:There will be no scheduled fixtures for December or January. Weather permitting\, any incomplete fixtures from the pre-Christmas programme can be re-arranged between participating teams for these months. There may also be an option for an additional fixture to be cast for those who have completed their programme. \nThe post Christmas programme will commence on 28th January 2023 for the Under-8’s & Under-10’s\, followed by the Under-7’s & Under-9’s on 4th February 2023. \n
URL:https://crowboroughleague.org.uk/event/mini-soccer-fixtures-restart-the-under-8s-under-10s/
END:VEVENT
END:VCALENDAR