BEGIN:VCALENDAR
VERSION:2.0
PRODID:-//CDJFL - ECPv4.6.24.1//NONSGML v1.0//EN
CALSCALE:GREGORIAN
METHOD:PUBLISH
X-WR-CALNAME:CDJFL
X-ORIGINAL-URL:https://crowboroughleague.org.uk
X-WR-CALDESC:Events for CDJFL
BEGIN:VEVENT
DTSTART;TZID=UTC+0:20230408T080000
DTEND;TZID=UTC+0:20230409T170000
DTSTAMP:20260424T124035
CREATED:20220720T120956Z
LAST-MODIFIED:20220720T120956Z
UID:1934-1680940800-1681059600@crowboroughleague.org.uk
SUMMARY:No fixtures weekend 11v11 & 9v9
DESCRIPTION:
URL:https://crowboroughleague.org.uk/event/no-fixtures-weekend-11v11-9v9-3/
END:VEVENT
END:VCALENDAR