BEGIN:VCALENDAR
VERSION:2.0
PRODID:-//CDJFL - ECPv4.6.24.1//NONSGML v1.0//EN
CALSCALE:GREGORIAN
METHOD:PUBLISH
X-WR-CALNAME:CDJFL
X-ORIGINAL-URL:https://crowboroughleague.org.uk
X-WR-CALDESC:Events for CDJFL
BEGIN:VEVENT
DTSTART;VALUE=DATE:20220424
DTEND;VALUE=DATE:20220425
DTSTAMP:20260423T155320
CREATED:20210812T184752Z
LAST-MODIFIED:20210812T184752Z
UID:1645-1650758400-1650844799@crowboroughleague.org.uk
SUMMARY:Provisional Cup Final Date : u12\, u14s & u16s
DESCRIPTION:
URL:https://crowboroughleague.org.uk/event/provisional-cup-final-date-u12-u14s-u16s/
END:VEVENT
END:VCALENDAR