BEGIN:VCALENDAR
VERSION:2.0
PRODID:-//CDJFL - ECPv4.6.24.1//NONSGML v1.0//EN
CALSCALE:GREGORIAN
METHOD:PUBLISH
X-WR-CALNAME:CDJFL
X-ORIGINAL-URL:https://crowboroughleague.org.uk
X-WR-CALDESC:Events for CDJFL
BEGIN:VEVENT
DTSTART;VALUE=DATE:20240501
DTEND;VALUE=DATE:20240502
DTSTAMP:20260424T204929
CREATED:20240222T211519Z
LAST-MODIFIED:20240222T211617Z
UID:2515-1714521600-1714607999@crowboroughleague.org.uk
SUMMARY:Affiliation window for 24-25 season opens today (links enclosed)
DESCRIPTION:Please visit the ‘forms’ section of the site if you need the affiliation forms http://crowboroughleague.org.uk/forms-documents/ \n
URL:https://crowboroughleague.org.uk/event/reminder-24-25-season-affiliation-window-opens/
CATEGORIES:League Management
END:VEVENT
END:VCALENDAR