BEGIN:VCALENDAR
VERSION:2.0
PRODID:-//CDJFL - ECPv4.6.24.1//NONSGML v1.0//EN
CALSCALE:GREGORIAN
METHOD:PUBLISH
X-WR-CALNAME:CDJFL
X-ORIGINAL-URL:https://crowboroughleague.org.uk
X-WR-CALDESC:Events for CDJFL
BEGIN:VEVENT
DTSTART;VALUE=DATE:20180915
DTEND;VALUE=DATE:20180916
DTSTAMP:20260425T195605
CREATED:20180924T201323Z
LAST-MODIFIED:20180924T201323Z
UID:646-1536969600-1537055999@crowboroughleague.org.uk
SUMMARY:Mini Soccer u8/u10 Season Starts
DESCRIPTION:
URL:https://crowboroughleague.org.uk/event/mini-soccer-u8-u10-season-starts/
END:VEVENT
END:VCALENDAR