BEGIN:VCALENDAR
VERSION:2.0
PRODID:-//CDJFL - ECPv4.6.24.1//NONSGML v1.0//EN
CALSCALE:GREGORIAN
METHOD:PUBLISH
X-WR-CALNAME:CDJFL
X-ORIGINAL-URL:https://crowboroughleague.org.uk
X-WR-CALDESC:Events for CDJFL
BEGIN:VEVENT
DTSTART;VALUE=DATE:20180922
DTEND;VALUE=DATE:20180923
DTSTAMP:20260425T195558
CREATED:20180924T201323Z
LAST-MODIFIED:20180924T201323Z
UID:647-1537574400-1537660799@crowboroughleague.org.uk
SUMMARY:Mini Soccer u7/u9 Season Starts
DESCRIPTION:
URL:https://crowboroughleague.org.uk/event/mini-soccer-u7-u9-season-starts/
END:VEVENT
END:VCALENDAR