BEGIN:VCALENDAR
VERSION:2.0
PRODID:-//CDJFL - ECPv4.6.24.1//NONSGML v1.0//EN
CALSCALE:GREGORIAN
METHOD:PUBLISH
X-WR-CALNAME:CDJFL
X-ORIGINAL-URL:https://crowboroughleague.org.uk
X-WR-CALDESC:Events for CDJFL
BEGIN:VEVENT
DTSTART;VALUE=DATE:20190405
DTEND;VALUE=DATE:20190406
DTSTAMP:20260423T044605
CREATED:20180924T201327Z
LAST-MODIFIED:20180924T201327Z
UID:673-1554422400-1554508799@crowboroughleague.org.uk
SUMMARY:School Holidays Start
DESCRIPTION:
URL:https://crowboroughleague.org.uk/event/school-holidays-start-4/
END:VEVENT
END:VCALENDAR