BEGIN:VCALENDAR
VERSION:2.0
PRODID:-//CDJFL - ECPv4.6.24.1//NONSGML v1.0//EN
CALSCALE:GREGORIAN
METHOD:PUBLISH
X-WR-CALNAME:CDJFL
X-ORIGINAL-URL:https://crowboroughleague.org.uk
X-WR-CALDESC:Events for CDJFL
BEGIN:VEVENT
DTSTART;TZID=UTC+0:20190828T220000
DTEND;TZID=UTC+0:20190828T220000
DTSTAMP:20260422T205347
CREATED:20190902T000826Z
LAST-MODIFIED:20190902T001019Z
UID:996-1567029600-1567029600@crowboroughleague.org.uk
SUMMARY:Registrations for start of season must be with the Registrations Secretary by                         22.00 hrs. Wednesday  28th   Aug 2019
DESCRIPTION:Registrations for start of season must be with the Registrations Secretary by 22.00 hrs. Wednesday 28th Aug 2019 \n  \nAll teams must have at least a FULL TEAM registered by this date to avoid fines and awarded games. All teams without the minimum completed registrations will be fined £30.00\, In addition to any unfulfilled fixture fine. See Rule 18B (iii) for info. \nN.B. All teams must be available (if required) on the 1st and last playing dates of the Season. \n
URL:https://crowboroughleague.org.uk/event/registrations-for-start-of-season-must-be-with-the-registrations-secretary-by-22-00-hrs-wednesday-28th-aug-2019/
END:VEVENT
END:VCALENDAR