BEGIN:VCALENDAR
VERSION:2.0
PRODID:-//CDJFL - ECPv4.6.24.1//NONSGML v1.0//EN
CALSCALE:GREGORIAN
METHOD:PUBLISH
X-WR-CALNAME:CDJFL
X-ORIGINAL-URL:https://crowboroughleague.org.uk
X-WR-CALDESC:Events for CDJFL
BEGIN:VEVENT
DTSTART;TZID=UTC+0:20191212T193000
DTEND;TZID=UTC+0:20191212T203000
DTSTAMP:20260422T161820
CREATED:20190902T003348Z
LAST-MODIFIED:20190902T003348Z
UID:1027-1576179000-1576182600@crowboroughleague.org.uk
SUMMARY:C&DJFL Management Committee meeting
DESCRIPTION:C&DJFL Management Committee meeting \n
URL:https://crowboroughleague.org.uk/event/cdjfl-management-committee-meeting-4/
LOCATION:Jarvis Brook FC\, Palesgate Lane\, Crowborough\, TN63HG\, United Kingdom
END:VEVENT
END:VCALENDAR