BEGIN:VCALENDAR
VERSION:2.0
PRODID:-//CDJFL - ECPv4.6.24.1//NONSGML v1.0//EN
CALSCALE:GREGORIAN
METHOD:PUBLISH
X-WR-CALNAME:CDJFL
X-ORIGINAL-URL:https://crowboroughleague.org.uk
X-WR-CALDESC:Events for CDJFL
BEGIN:VEVENT
DTSTART;TZID=UTC+0:20200830T080000
DTEND;TZID=UTC+0:20200830T200000
DTSTAMP:20260422T032648
CREATED:20200924T172725Z
LAST-MODIFIED:20200924T172725Z
UID:1398-1598774400-1598817600@crowboroughleague.org.uk
SUMMARY:Player registratuons deadleine
DESCRIPTION:
URL:https://crowboroughleague.org.uk/event/player-registratuons-deadleine/
END:VEVENT
END:VCALENDAR