BEGIN:VCALENDAR
VERSION:2.0
PRODID:-//CDJFL - ECPv4.6.24.1//NONSGML v1.0//EN
CALSCALE:GREGORIAN
METHOD:PUBLISH
X-WR-CALNAME:CDJFL
X-ORIGINAL-URL:https://crowboroughleague.org.uk
X-WR-CALDESC:Events for CDJFL
BEGIN:VEVENT
DTSTART;VALUE=DATE:20200912
DTEND;VALUE=DATE:20200913
DTSTAMP:20260422T015159
CREATED:20200924T173432Z
LAST-MODIFIED:20200924T173432Z
UID:1414-1599868800-1599955199@crowboroughleague.org.uk
SUMMARY:Mini Soccer fixtures start
DESCRIPTION:Fixtures will commence on 12th September for Under-8’s & Under-10’s \n
URL:https://crowboroughleague.org.uk/event/mini-soccer-fixtures-start/
END:VEVENT
BEGIN:VEVENT
DTSTART;TZID=UTC+0:20200912T200000
DTEND;TZID=UTC+0:20200912T200000
DTSTAMP:20260422T015159
CREATED:20200924T173748Z
LAST-MODIFIED:20200924T173748Z
UID:1420-1599940800-1599940800@crowboroughleague.org.uk
SUMMARY:Mini Soccer Player Registrations for first u7s/u9s weekends fixtures  - deadline
DESCRIPTION:Fixtures will commence on 12th September for Under-8’s & Under-10’s \nFixtures will commence on 19th September for Under-7’s & Under-9’s \nPlayer registrations for participation on 12th September must be with the Registration Secretary by 8.00pm on 5th September 2020. \nPlayer registrations for participation on 19th September must be with the Registration Secretary by 8.00pm on 12th September 2020. \n
URL:https://crowboroughleague.org.uk/event/mini-soccer-player-registrations-for-first-u7s-u9s-weekends-fixtures-deadline/
END:VEVENT
END:VCALENDAR