BEGIN:VCALENDAR
VERSION:2.0
PRODID:-//CDJFL - ECPv4.6.24.1//NONSGML v1.0//EN
CALSCALE:GREGORIAN
METHOD:PUBLISH
X-WR-CALNAME:CDJFL
X-ORIGINAL-URL:https://crowboroughleague.org.uk
X-WR-CALDESC:Events for CDJFL
BEGIN:VEVENT
DTSTART;TZID=UTC+0:20200924T190000
DTEND;TZID=UTC+0:20200924T200000
DTSTAMP:20260422T015108
CREATED:20200924T172055Z
LAST-MODIFIED:20200924T172055Z
UID:1388-1600974000-1600977600@crowboroughleague.org.uk
SUMMARY:ManComm Meeting
DESCRIPTION:
URL:https://crowboroughleague.org.uk/event/mancomm-meeting/
END:VEVENT
END:VCALENDAR