BEGIN:VCALENDAR
VERSION:2.0
PRODID:-//CDJFL - ECPv4.6.24.1//NONSGML v1.0//EN
CALSCALE:GREGORIAN
METHOD:PUBLISH
X-WR-CALNAME:CDJFL
X-ORIGINAL-URL:https://crowboroughleague.org.uk
X-WR-CALDESC:Events for CDJFL
BEGIN:VEVENT
DTSTART;VALUE=DATE:20201221
DTEND;VALUE=DATE:20201230
DTSTAMP:20260421T184919
CREATED:20200924T172815Z
LAST-MODIFIED:20201126T210353Z
UID:1400-1608508800-1609286399@crowboroughleague.org.uk
SUMMARY:Christmas fixtures break
DESCRIPTION:
URL:https://crowboroughleague.org.uk/event/christmas-fixtures-break/
END:VEVENT
END:VCALENDAR