BEGIN:VCALENDAR
VERSION:2.0
PRODID:-//CDJFL - ECPv4.6.24.1//NONSGML v1.0//EN
CALSCALE:GREGORIAN
METHOD:PUBLISH
X-WR-CALNAME:CDJFL
X-ORIGINAL-URL:https://crowboroughleague.org.uk
X-WR-CALDESC:Events for CDJFL
BEGIN:VEVENT
DTSTART;VALUE=DATE:20210403
DTEND;VALUE=DATE:20210405
DTSTAMP:20260421T141533
CREATED:20200924T172851Z
LAST-MODIFIED:20200924T172851Z
UID:1402-1617408000-1617580799@crowboroughleague.org.uk
SUMMARY:Easter fixtures break
DESCRIPTION:
URL:https://crowboroughleague.org.uk/event/easter-fixtures-break/
END:VEVENT
END:VCALENDAR