BEGIN:VCALENDAR
VERSION:2.0
PRODID:-//CDJFL - ECPv4.6.24.1//NONSGML v1.0//EN
CALSCALE:GREGORIAN
METHOD:PUBLISH
X-WR-CALNAME:CDJFL
X-ORIGINAL-URL:https://crowboroughleague.org.uk
X-WR-CALDESC:Events for CDJFL
BEGIN:VEVENT
DTSTART;TZID=UTC+0:20220407T193000
DTEND;TZID=UTC+0:20220407T203000
DTSTAMP:20260423T152943
CREATED:20210812T190517Z
LAST-MODIFIED:20210812T190517Z
UID:1688-1649359800-1649363400@crowboroughleague.org.uk
SUMMARY:League Management Meeting (MANCOMM)
DESCRIPTION:
URL:https://crowboroughleague.org.uk/event/league-management-meeting-mancomm-8/
END:VEVENT
END:VCALENDAR