BEGIN:VCALENDAR
VERSION:2.0
PRODID:-//CDJFL - ECPv4.6.24.1//NONSGML v1.0//EN
CALSCALE:GREGORIAN
METHOD:PUBLISH
X-WR-CALNAME:CDJFL
X-ORIGINAL-URL:https://crowboroughleague.org.uk
X-WR-CALDESC:Events for CDJFL
BEGIN:VEVENT
DTSTART;VALUE=DATE:20220430
DTEND;VALUE=DATE:20220501
DTSTAMP:20260423T153730
CREATED:20220202T162442Z
LAST-MODIFIED:20220202T162442Z
UID:1857-1651276800-1651363199@crowboroughleague.org.uk
SUMMARY:Last playing day of season - Mini Soccer
DESCRIPTION:
URL:https://crowboroughleague.org.uk/event/last-playing-day-of-season-mini-soccer/
END:VEVENT
END:VCALENDAR