BEGIN:VCALENDAR
VERSION:2.0
PRODID:-//CDJFL - ECPv4.6.24.1//NONSGML v1.0//EN
CALSCALE:GREGORIAN
METHOD:PUBLISH
X-WR-CALNAME:CDJFL
X-ORIGINAL-URL:https://crowboroughleague.org.uk
X-WR-CALDESC:Events for CDJFL
BEGIN:VEVENT
DTSTART;TZID=UTC+0:20220610T190000
DTEND;TZID=UTC+0:20220610T220000
DTSTAMP:20260423T182601
CREATED:20210812T190722Z
LAST-MODIFIED:20210812T190722Z
UID:1694-1654887600-1654898400@crowboroughleague.org.uk
SUMMARY:Provisional League presentation evening
DESCRIPTION:
URL:https://crowboroughleague.org.uk/event/provisional-league-presentation-evening/
END:VEVENT
END:VCALENDAR