BEGIN:VCALENDAR
VERSION:2.0
PRODID:-//CDJFL - ECPv4.6.24.1//NONSGML v1.0//EN
CALSCALE:GREGORIAN
METHOD:PUBLISH
X-WR-CALNAME:CDJFL
X-ORIGINAL-URL:https://crowboroughleague.org.uk
X-WR-CALDESC:Events for CDJFL
BEGIN:VEVENT
DTSTART;TZID=UTC+0:20220818T200000
DTEND;TZID=UTC+0:20220818T210000
DTSTAMP:20260423T210114
CREATED:20220720T123203Z
LAST-MODIFIED:20220720T124142Z
UID:1964-1660852800-1660856400@crowboroughleague.org.uk
SUMMARY:FULL LEAGUE MEETING  CLUB REPESENTATION IS MANDATORY - ZOOM
DESCRIPTION:This meeting will be held online via ZOOM\, commencing 8.00pm. ALL CLUBS must be represented. Further details will be forwarded nearer the time. \n
URL:https://crowboroughleague.org.uk/event/full-league-meeting-club-repesentation-is-mandatory/
END:VEVENT
END:VCALENDAR