BEGIN:VCALENDAR
VERSION:2.0
PRODID:-//CDJFL - ECPv4.6.24.1//NONSGML v1.0//EN
CALSCALE:GREGORIAN
METHOD:PUBLISH
X-WR-CALNAME:CDJFL
X-ORIGINAL-URL:https://crowboroughleague.org.uk
X-WR-CALDESC:Events for CDJFL
BEGIN:VEVENT
DTSTART;TZID=UTC+0:20220902T000000
DTEND;TZID=UTC+0:20220902T000000
DTSTAMP:20260423T210151
CREATED:20220720T122225Z
LAST-MODIFIED:20220720T122225Z
UID:1953-1662076800-1662076800@crowboroughleague.org.uk
SUMMARY:Mini Soccer Registration deadlines for playing 18th September 2022
DESCRIPTION:Player registrations for participation on 18th September must be with the Registration Secretary by midnight on 2nd September 2022 \n
URL:https://crowboroughleague.org.uk/event/mini-soccer-registration-deadlines-for-playing-18th-september-2022/
END:VEVENT
END:VCALENDAR