BEGIN:VCALENDAR
VERSION:2.0
PRODID:-//CDJFL - ECPv4.6.24.1//NONSGML v1.0//EN
CALSCALE:GREGORIAN
METHOD:PUBLISH
X-WR-CALNAME:CDJFL
X-ORIGINAL-URL:https://crowboroughleague.org.uk
X-WR-CALDESC:Events for CDJFL
BEGIN:VEVENT
DTSTART;VALUE=DATE:20221224
DTEND;VALUE=DATE:20221226
DTSTAMP:20260424T063922
CREATED:20220720T120703Z
LAST-MODIFIED:20220720T120721Z
UID:1930-1671840000-1672012799@crowboroughleague.org.uk
SUMMARY:No fixtures weekend 11v11 & 9v9
DESCRIPTION:
URL:https://crowboroughleague.org.uk/event/no-fixtures-weekend-11v11-9v9/
END:VEVENT
END:VCALENDAR