BEGIN:VCALENDAR
VERSION:2.0
PRODID:-//CDJFL - ECPv4.6.24.1//NONSGML v1.0//EN
CALSCALE:GREGORIAN
METHOD:PUBLISH
X-WR-CALNAME:CDJFL
X-ORIGINAL-URL:https://crowboroughleague.org.uk
X-WR-CALDESC:Events for CDJFL
BEGIN:VEVENT
DTSTART;TZID=UTC+0:20230202T193000
DTEND;TZID=UTC+0:20230202T203000
DTSTAMP:20260424T080409
CREATED:20220720T124821Z
LAST-MODIFIED:20220720T124821Z
UID:1987-1675366200-1675369800@crowboroughleague.org.uk
SUMMARY:LEAGUE MANAGEMENT COMMITTEE MEETING
DESCRIPTION:
URL:https://crowboroughleague.org.uk/event/league-management-committee-meeting-7/
END:VEVENT
END:VCALENDAR