BEGIN:VCALENDAR
VERSION:2.0
PRODID:-//CDJFL - ECPv4.6.24.1//NONSGML v1.0//EN
CALSCALE:GREGORIAN
METHOD:PUBLISH
X-WR-CALNAME:CDJFL
X-ORIGINAL-URL:https://crowboroughleague.org.uk
X-WR-CALDESC:Events for CDJFL
BEGIN:VEVENT
DTSTART;TZID=UTC+0:20230928T193000
DTEND;TZID=UTC+0:20230928T210000
DTSTAMP:20260424T190844
CREATED:20230920T174646Z
LAST-MODIFIED:20230920T183147Z
UID:2361-1695929400-1695934800@crowboroughleague.org.uk
SUMMARY:League Management Committee (Amended)
DESCRIPTION:This session has been rescheduled – please refer to Trevor’s email \n
URL:https://crowboroughleague.org.uk/event/league-management-committee-meeting-amended/
END:VEVENT
END:VCALENDAR