BEGIN:VCALENDAR
VERSION:2.0
PRODID:-//CDJFL - ECPv4.6.24.1//NONSGML v1.0//EN
CALSCALE:GREGORIAN
METHOD:PUBLISH
X-WR-CALNAME:CDJFL
X-ORIGINAL-URL:https://crowboroughleague.org.uk
X-WR-CALDESC:Events for CDJFL
BEGIN:VEVENT
DTSTART;TZID=UTC+0:20231123T193000
DTEND;TZID=UTC+0:20231123T210000
DTSTAMP:20260424T215044
CREATED:20230920T175016Z
LAST-MODIFIED:20230920T182713Z
UID:2366-1700767800-1700773200@crowboroughleague.org.uk
SUMMARY:League Management Committee
DESCRIPTION:
URL:https://crowboroughleague.org.uk/event/league-management-committee-2/
END:VEVENT
END:VCALENDAR