BEGIN:VCALENDAR
VERSION:2.0
PRODID:-//CDJFL - ECPv4.6.24.1//NONSGML v1.0//EN
CALSCALE:GREGORIAN
METHOD:PUBLISH
X-WR-CALNAME:CDJFL
X-ORIGINAL-URL:https://crowboroughleague.org.uk
X-WR-CALDESC:Events for CDJFL
BEGIN:VEVENT
DTSTART;TZID=UTC+0:20240104T193000
DTEND;TZID=UTC+0:20240104T210000
DTSTAMP:20260425T002904
CREATED:20230920T175058Z
LAST-MODIFIED:20240104T132250Z
UID:2368-1704396600-1704402000@crowboroughleague.org.uk
SUMMARY:League ManComm - *Cancelled*
DESCRIPTION:
URL:https://crowboroughleague.org.uk/event/league-management-committee-3/
END:VEVENT
END:VCALENDAR