BEGIN:VCALENDAR
VERSION:2.0
PRODID:-//CDJFL - ECPv4.6.24.1//NONSGML v1.0//EN
CALSCALE:GREGORIAN
METHOD:PUBLISH
X-WR-CALNAME:CDJFL
X-ORIGINAL-URL:https://crowboroughleague.org.uk
X-WR-CALDESC:Events for CDJFL
BEGIN:VEVENT
DTSTART;TZID=UTC+0:20240926T183000
DTEND;TZID=UTC+0:20240926T200000
DTSTAMP:20260425T115323
CREATED:20230920T175542Z
LAST-MODIFIED:20240826T204925Z
UID:2376-1727375400-1727380800@crowboroughleague.org.uk
SUMMARY:September League Management Committee
DESCRIPTION:Ravenscroft\nCroft Road\nCrowborough East Sussex\nTN6 1DL \n
URL:https://crowboroughleague.org.uk/event/league-management-committee-7/
CATEGORIES:League Management
END:VEVENT
END:VCALENDAR