BEGIN:VCALENDAR
VERSION:2.0
PRODID:-//CDJFL - ECPv4.6.24.1//NONSGML v1.0//EN
CALSCALE:GREGORIAN
METHOD:PUBLISH
X-WR-CALNAME:CDJFL
X-ORIGINAL-URL:https://crowboroughleague.org.uk
X-WR-CALDESC:Events for CDJFL
BEGIN:VEVENT
DTSTART;TZID=UTC+0:20250227T200000
DTEND;TZID=UTC+0:20250227T213000
DTSTAMP:20260425T201009
CREATED:20240825T091535Z
LAST-MODIFIED:20240825T091616Z
UID:2603-1740686400-1740691800@crowboroughleague.org.uk
SUMMARY:Full League Meeting (8pm)
DESCRIPTION:Thursday 27 th February\, 2025 via zoom. \n
URL:https://crowboroughleague.org.uk/event/full-league-meeting-8pm/
CATEGORIES:Full League Meetings
END:VEVENT
END:VCALENDAR